BEGIN:VCALENDAR
VERSION:2.0
PRODID:icalendar-ruby
CALSCALE:GREGORIAN
METHOD:PUBLISH
BEGIN:VEVENT
DTSTAMP:20260423T105240Z
UID:55-495213@gulfbreezepc.org
DTSTART:20260728T123000Z
DTEND:20260728T220000Z
CLASS:PUBLIC
CREATED:20260226T112500
DESCRIPTION:
LAST-MODIFIED:20260226T112500
LOCATION:Multiple on campus locations
SUMMARY:2026 Summer Camp
URL;VALUE=URI:https://gulfbreezepc.org/events/2026-summer-camp/2026-07-28
ATTACH;FILENAME=kids-summer.png;FMTTYPE=image/png:https://dq5pwpg1q8ru0.clo
 udfront.net/2026/02/26/17/24/59/b6b64778-ff1f-4e10-b237-f8afe63940f8/kids-
 summer.png
END:VEVENT
END:VCALENDAR
