BEGIN:VCALENDAR
VERSION:2.0
PRODID:icalendar-ruby
CALSCALE:GREGORIAN
METHOD:PUBLISH
BEGIN:VEVENT
DTSTAMP:20260423T204304Z
UID:8-645342@gulfbreezepc.org
DTSTART:20260927T140000Z
DTEND:20260927T150000Z
CLASS:PUBLIC
CREATED:20260423T130319
DESCRIPTION:
LAST-MODIFIED:20260423T130319
LOCATION:The North Room
SUMMARY:Adult Sunday School 
URL;VALUE=URI:https://gulfbreezepc.org/events/adult-sunday-school/2026-09-2
 7
END:VEVENT
END:VCALENDAR
