BEGIN:VCALENDAR
VERSION:2.0
PRODID:icalendar-ruby
CALSCALE:GREGORIAN
METHOD:PUBLISH
BEGIN:VEVENT
DTSTAMP:20260423T222816Z
UID:8-645813@gulfbreezepc.org
DTSTART:20261004T140000Z
DTEND:20261004T150000Z
CLASS:PUBLIC
CREATED:20260423T155900
DESCRIPTION:
LAST-MODIFIED:20260423T155900
LOCATION:The North Room
SUMMARY:Adult Sunday School 
URL;VALUE=URI:https://gulfbreezepc.org/events/adult-sunday-school/2026-10-0
 4
END:VEVENT
END:VCALENDAR
