BEGIN:VCALENDAR
VERSION:2.0
PRODID:icalendar-ruby
CALSCALE:GREGORIAN
METHOD:PUBLISH
BEGIN:VEVENT
DTSTAMP:20260424T020414Z
UID:8-646285@gulfbreezepc.org
DTSTART:20261018T140000Z
DTEND:20261018T150000Z
CLASS:PUBLIC
CREATED:20260423T185215
DESCRIPTION:
LAST-MODIFIED:20260423T185215
LOCATION:The North Room
SUMMARY:Adult Sunday School 
URL;VALUE=URI:https://gulfbreezepc.org/events/adult-sunday-school/2026-10-1
 8
END:VEVENT
END:VCALENDAR
