BEGIN:VCALENDAR
VERSION:2.0
PRODID:icalendar-ruby
CALSCALE:GREGORIAN
METHOD:PUBLISH
BEGIN:VEVENT
DTSTAMP:20260424T034204Z
UID:8-646756@gulfbreezepc.org
DTSTART:20261025T140000Z
DTEND:20261025T150000Z
CLASS:PUBLIC
CREATED:20260423T214635
DESCRIPTION:
LAST-MODIFIED:20260423T214635
LOCATION:The North Room
SUMMARY:Adult Sunday School 
URL;VALUE=URI:https://gulfbreezepc.org/events/adult-sunday-school/2026-10-2
 5
END:VEVENT
END:VCALENDAR
