BEGIN:VCALENDAR
VERSION:2.0
PRODID:icalendar-ruby
CALSCALE:GREGORIAN
METHOD:PUBLISH
BEGIN:VEVENT
DTSTAMP:20260424T053225Z
UID:8-646757@gulfbreezepc.org
DTSTART:20261101T150000Z
DTEND:20261101T160000Z
CLASS:PUBLIC
CREATED:20260423T214635
DESCRIPTION:
LAST-MODIFIED:20260423T214635
LOCATION:The North Room
SUMMARY:Adult Sunday School 
URL;VALUE=URI:https://gulfbreezepc.org/events/adult-sunday-school/2026-11-0
 1
END:VEVENT
END:VCALENDAR
