BEGIN:VCALENDAR
VERSION:2.0
PRODID:icalendar-ruby
CALSCALE:GREGORIAN
METHOD:PUBLISH
BEGIN:VEVENT
DTSTAMP:20260423T150026Z
UID:34-644622@gulfbreezepc.org
DTSTART:20261014T223000Z
DTEND:20261014T233000Z
CLASS:PUBLIC
CREATED:20260423T071442
DESCRIPTION:Don and Mary Mason will host a group meeting for those who lost
  a loved one to suicide. Contact the Masons at (850) 748-0870 or the churc
 h at 850-932-3625.
LAST-MODIFIED:20260423T071442
LOCATION:
SUMMARY:Understanding Your Suicide Grief
URL;VALUE=URI:https://gulfbreezepc.org/events/understanding-your-suicide-gr
 ief/2026-10-14
ATTACH;FILENAME=51UZpYUYPML._UF1000%2C1000_QL80_.jpg;FMTTYPE=image/jpeg:htt
 ps://dq5pwpg1q8ru0.cloudfront.net/2025/08/22/18/33/26/f0531801-9a13-4951-b
 e32-f63c1ce96c60/51UZpYUYPML._UF1000%252C1000_QL80_.jpg
END:VEVENT
END:VCALENDAR
