BEGIN:VCALENDAR
VERSION:2.0
PRODID:icalendar-ruby
CALSCALE:GREGORIAN
METHOD:PUBLISH
BEGIN:VEVENT
DTSTAMP:20260424T065510Z
UID:33-646909@gulfbreezepc.org
DTSTART:20261012T233000Z
DTEND:20261013T003000Z
CLASS:PUBLIC
CREATED:20260423T214636
DESCRIPTION:Our next 4 week series begins on January 12th.  We will be loo
 king at Renewal &amp\; Re-Centering on God.  Come explore with new friend
 s this new year!\n 
LAST-MODIFIED:20260423T214636
LOCATION:Library
SUMMARY:Women's Bible Study
URL;VALUE=URI:https://gulfbreezepc.org/events/womens-bible-study--33/2026-1
 0-12
ATTACH;FILENAME=CHURCH-WINDOW.png;FMTTYPE=image/png:https://dq5pwpg1q8ru0.c
 loudfront.net/2026/01/02/23/49/39/486487c3-b00a-4a4e-9d79-9ef474228180/CHU
 RCH-WINDOW.png
END:VEVENT
END:VCALENDAR
